BEGIN:VCALENDAR
VERSION:2.0
PRODID:-//VOWELITES
CALSCALE:GREGORIAN
METHOD:PUBLISH
X-WR-CALNAME:VOWELITES
X-ORIGINAL-URL:https://vowelites.com/event/national-farmers-day-or-kisan-diwas/
X-WR-CALDESC:NATIONAL FARMERS DAY or KISAN DIWAS
BEGIN:VEVENT
DTSTART:20231223T000000
DTEND:20231223T000000
SUMMARY:NATIONAL FARMERS DAY or KISAN DIWAS
DESCRIPTION:
LOCATION:Vowel Group of Institutions 
END:VEVENT
END:VCALENDAR
