BEGIN:VCALENDAR
VERSION:2.0
PRODID:-//VOWELITES
CALSCALE:GREGORIAN
METHOD:PUBLISH
X-WR-CALNAME:VOWELITES
X-ORIGINAL-URL:https://vowelites.com/event/indian-constitution-day/
X-WR-CALDESC:INDIAN CONSTITUTION DAY
BEGIN:VEVENT
DTSTART:20231126T000000
DTEND:20231126T000000
SUMMARY:INDIAN CONSTITUTION DAY
DESCRIPTION:
LOCATION:Vowel Group of Institutions 
END:VEVENT
END:VCALENDAR
